BEGIN:VCALENDAR
VERSION:2.0
PRODID:-//SV Almenrausch Willprechtszell-Schönleiten - ECPv6.15.20//NONSGML v1.0//EN
CALSCALE:GREGORIAN
METHOD:PUBLISH
X-WR-CALNAME:SV Almenrausch Willprechtszell-Schönleiten
X-ORIGINAL-URL:https://www.almenrausch-willprechtszell.de
X-WR-CALDESC:Veranstaltungen für SV Almenrausch Willprechtszell-Schönleiten
REFRESH-INTERVAL;VALUE=DURATION:PT1H
X-Robots-Tag:noindex
X-PUBLISHED-TTL:PT1H
BEGIN:VTIMEZONE
TZID:Europe/Berlin
BEGIN:DAYLIGHT
TZOFFSETFROM:+0100
TZOFFSETTO:+0200
TZNAME:CEST
DTSTART:20220327T010000
END:DAYLIGHT
BEGIN:STANDARD
TZOFFSETFROM:+0200
TZOFFSETTO:+0100
TZNAME:CET
DTSTART:20221030T010000
END:STANDARD
BEGIN:DAYLIGHT
TZOFFSETFROM:+0100
TZOFFSETTO:+0200
TZNAME:CEST
DTSTART:20230326T010000
END:DAYLIGHT
BEGIN:STANDARD
TZOFFSETFROM:+0200
TZOFFSETTO:+0100
TZNAME:CET
DTSTART:20231029T010000
END:STANDARD
BEGIN:DAYLIGHT
TZOFFSETFROM:+0100
TZOFFSETTO:+0200
TZNAME:CEST
DTSTART:20240331T010000
END:DAYLIGHT
BEGIN:STANDARD
TZOFFSETFROM:+0200
TZOFFSETTO:+0100
TZNAME:CET
DTSTART:20241027T010000
END:STANDARD
BEGIN:DAYLIGHT
TZOFFSETFROM:+0100
TZOFFSETTO:+0200
TZNAME:CEST
DTSTART:20250330T010000
END:DAYLIGHT
BEGIN:STANDARD
TZOFFSETFROM:+0200
TZOFFSETTO:+0100
TZNAME:CET
DTSTART:20251026T010000
END:STANDARD
END:VTIMEZONE
BEGIN:VEVENT
DTSTART;TZID=Europe/Berlin:20240331T190000
DTEND;TZID=Europe/Berlin:20240331T230000
DTSTAMP:20260425T174026
CREATED:20231124T061413Z
LAST-MODIFIED:20231124T061413Z
UID:1327-1711911600-1711926000@www.almenrausch-willprechtszell.de
SUMMARY:Schafkopfturnier
DESCRIPTION:
URL:https://www.almenrausch-willprechtszell.de/event/schafkopfturnier/
LOCATION:Schützenheim\, Axtstraße 32\, Axtbrunn\, Bayern\, 86574\, Deutschland
CATEGORIES:Allgemeines
ATTACH;FMTTYPE=image/jpeg:https://www.almenrausch-willprechtszell.de/wp-content/uploads/2023/11/Schafkopf.jpg
END:VEVENT
BEGIN:VEVENT
DTSTART;TZID=Europe/Berlin:20240328T193000
DTEND;TZID=Europe/Berlin:20240328T230000
DTSTAMP:20260425T174026
CREATED:20231124T061009Z
LAST-MODIFIED:20231124T061044Z
UID:1325-1711654200-1711666800@www.almenrausch-willprechtszell.de
SUMMARY:Osterschießen
DESCRIPTION:
URL:https://www.almenrausch-willprechtszell.de/event/osterschiessen/
LOCATION:Schützenheim\, Axtstraße 32\, Axtbrunn\, Bayern\, 86574\, Deutschland
CATEGORIES:Vereinswettkampf
ATTACH;FMTTYPE=image/png:https://www.almenrausch-willprechtszell.de/wp-content/uploads/2019/09/LOGO_512x512.png
END:VEVENT
BEGIN:VEVENT
DTSTART;TZID=Europe/Berlin:20240217T193000
DTEND;TZID=Europe/Berlin:20240217T223000
DTSTAMP:20260425T174026
CREATED:20231124T060822Z
LAST-MODIFIED:20231124T060822Z
UID:1323-1708198200-1708209000@www.almenrausch-willprechtszell.de
SUMMARY:Jahreshauptversammlung
DESCRIPTION:
URL:https://www.almenrausch-willprechtszell.de/event/jahreshauptversammlung/
LOCATION:Schützenheim\, Axtstraße 32\, Axtbrunn\, Bayern\, 86574\, Deutschland
CATEGORIES:Allgemeines
ATTACH;FMTTYPE=image/png:https://www.almenrausch-willprechtszell.de/wp-content/uploads/2019/09/LOGO_512x512.png
END:VEVENT
BEGIN:VEVENT
DTSTART;TZID=Europe/Berlin:20240216T193000
DTEND;TZID=Europe/Berlin:20240216T230000
DTSTAMP:20260425T174026
CREATED:20231124T060414Z
LAST-MODIFIED:20231124T060640Z
UID:1318-1708111800-1708124400@www.almenrausch-willprechtszell.de
SUMMARY:Starkbierschießen
DESCRIPTION:Zu gewinnen gibt es dieses Mal wieder tolle Preise aus dem Hause Unterbaarer Bier 🍺
URL:https://www.almenrausch-willprechtszell.de/event/starkbierschiessen/
LOCATION:Schützenheim\, Axtstraße 32\, Axtbrunn\, Bayern\, 86574\, Deutschland
CATEGORIES:Allgemeines
ATTACH;FMTTYPE=image/png:https://www.almenrausch-willprechtszell.de/wp-content/uploads/2023/11/Untitled.png
END:VEVENT
BEGIN:VEVENT
DTSTART;TZID=Europe/Berlin:20240213T123000
DTEND;TZID=Europe/Berlin:20240213T200000
DTSTAMP:20260425T174026
CREATED:20231124T055655Z
LAST-MODIFIED:20231124T061131Z
UID:1314-1707827400-1707854400@www.almenrausch-willprechtszell.de
SUMMARY:Kesselfleischessen
DESCRIPTION:
URL:https://www.almenrausch-willprechtszell.de/event/kesselfleischessen/
LOCATION:Schützenheim\, Axtstraße 32\, Axtbrunn\, Bayern\, 86574\, Deutschland
CATEGORIES:Allgemeines
ATTACH;FMTTYPE=image/png:https://www.almenrausch-willprechtszell.de/wp-content/uploads/2019/09/LOGO_512x512.png
END:VEVENT
BEGIN:VEVENT
DTSTART;TZID=Europe/Berlin:20240127T200000
DTEND;TZID=Europe/Berlin:20240128T020000
DTSTAMP:20260425T174026
CREATED:20231124T055506Z
LAST-MODIFIED:20231124T055949Z
UID:1312-1706385600-1706407200@www.almenrausch-willprechtszell.de
SUMMARY:Schützenball Eichenlaub Eisingersdorf
DESCRIPTION:
URL:https://www.almenrausch-willprechtszell.de/event/schuetzenball-eichenlaub-eisingersdorf/
LOCATION:Schützenheim Eisingersdorf\, Brückenstraße 5\, Eisingersdorf\, Bayern\, 86447\, Deutschland
END:VEVENT
BEGIN:VEVENT
DTSTART;TZID=Europe/Berlin:20231209T180000
DTEND;TZID=Europe/Berlin:20231209T230000
DTSTAMP:20260425T174026
CREATED:20231124T055116Z
LAST-MODIFIED:20231124T055404Z
UID:1304-1702144800-1702162800@www.almenrausch-willprechtszell.de
SUMMARY:Weihnachtsmarkt Willprechtszell
DESCRIPTION:Der Schützenverein ist dieses Jahr beim lokalen Weihnachtsmarkt mit dabei. Wir bieten für euch leckere Rahmflecken an. Auch eine vegetarische Variante wird angeboten.
URL:https://www.almenrausch-willprechtszell.de/event/weihnachtsmarkt-willprechtszell/
LOCATION:Schimmelwirt\, Schulstraße 14\, Willprechtszell\, 86574
CATEGORIES:Allgemeines
ATTACH;FMTTYPE=image/jpeg:https://www.almenrausch-willprechtszell.de/wp-content/uploads/2023/11/89c7f32f-4154-4cac-97c8-de8704f90e20.jpg
END:VEVENT
BEGIN:VEVENT
DTSTART;TZID=Europe/Berlin:20231124T190000
DTEND;TZID=Europe/Berlin:20231124T230000
DTSTAMP:20260425T174026
CREATED:20231006T055421Z
LAST-MODIFIED:20231006T055421Z
UID:1297-1700852400-1700866800@www.almenrausch-willprechtszell.de
SUMMARY:Preisschießen und 2.Königsschießen
DESCRIPTION:
URL:https://www.almenrausch-willprechtszell.de/event/preisschiessen-und-2-koenigsschiessen/
LOCATION:Schützenheim\, Axtstraße 32\, Axtbrunn\, Bayern\, 86574\, Deutschland
CATEGORIES:Vereinswettkampf
ATTACH;FMTTYPE=image/png:https://www.almenrausch-willprechtszell.de/wp-content/uploads/2019/09/cropped-LOGO_512x512-1.png
END:VEVENT
BEGIN:VEVENT
DTSTART;TZID=Europe/Berlin:20231119T080000
DTEND;TZID=Europe/Berlin:20231119T110000
DTSTAMP:20260425T174026
CREATED:20231006T055547Z
LAST-MODIFIED:20231006T055547Z
UID:1299-1700380800-1700391600@www.almenrausch-willprechtszell.de
SUMMARY:Volkstrauertag
DESCRIPTION:Ausrücken zur Hl. Messe
URL:https://www.almenrausch-willprechtszell.de/event/volkstrauertag/
LOCATION:Bayern
CATEGORIES:Allgemeines
END:VEVENT
BEGIN:VEVENT
DTSTART;TZID=Europe/Berlin:20231110T190000
DTEND;TZID=Europe/Berlin:20231110T230000
DTSTAMP:20260425T174026
CREATED:20231006T055229Z
LAST-MODIFIED:20231006T055250Z
UID:1295-1699642800-1699657200@www.almenrausch-willprechtszell.de
SUMMARY:Anfangsschießen und 1.Königsschießen
DESCRIPTION:
URL:https://www.almenrausch-willprechtszell.de/event/anfangsschiessen-und-1-koenigsschiessen/
LOCATION:Schützenheim\, Axtstraße 32\, Axtbrunn\, Bayern\, 86574\, Deutschland
CATEGORIES:Vereinswettkampf
ATTACH;FMTTYPE=image/png:https://www.almenrausch-willprechtszell.de/wp-content/uploads/2019/09/cropped-LOGO_512x512-1.png
END:VEVENT
BEGIN:VEVENT
DTSTART;TZID=Europe/Berlin:20231029T110000
DTEND;TZID=Europe/Berlin:20231029T170000
DTSTAMP:20260425T174026
CREATED:20231006T055056Z
LAST-MODIFIED:20231006T055056Z
UID:1293-1698577200-1698598800@www.almenrausch-willprechtszell.de
SUMMARY:Sauessen
DESCRIPTION:
URL:https://www.almenrausch-willprechtszell.de/event/sauessen/
LOCATION:Schützenheim\, Axtstraße 32\, Axtbrunn\, Bayern\, 86574\, Deutschland
CATEGORIES:Allgemeines
ATTACH;FMTTYPE=image/png:https://www.almenrausch-willprechtszell.de/wp-content/uploads/2019/09/cropped-LOGO_512x512-1.png
END:VEVENT
END:VCALENDAR